BEGIN:VCALENDAR
VERSION:2.0
PRODID:-//Taylor County Republican Party - ECPv6.15.20//NONSGML v1.0//EN
CALSCALE:GREGORIAN
METHOD:PUBLISH
X-WR-CALNAME:Taylor County Republican Party
X-ORIGINAL-URL:https://taylorcounty.gop
X-WR-CALDESC:Events for Taylor County Republican Party
REFRESH-INTERVAL;VALUE=DURATION:PT1H
X-Robots-Tag:noindex
X-PUBLISHED-TTL:PT1H
BEGIN:VTIMEZONE
TZID:America/Chicago
BEGIN:DAYLIGHT
TZOFFSETFROM:-0600
TZOFFSETTO:-0500
TZNAME:CDT
DTSTART:20250309T080000
END:DAYLIGHT
BEGIN:STANDARD
TZOFFSETFROM:-0500
TZOFFSETTO:-0600
TZNAME:CST
DTSTART:20251102T070000
END:STANDARD
BEGIN:DAYLIGHT
TZOFFSETFROM:-0600
TZOFFSETTO:-0500
TZNAME:CDT
DTSTART:20260308T080000
END:DAYLIGHT
BEGIN:STANDARD
TZOFFSETFROM:-0500
TZOFFSETTO:-0600
TZNAME:CST
DTSTART:20261101T070000
END:STANDARD
BEGIN:DAYLIGHT
TZOFFSETFROM:-0600
TZOFFSETTO:-0500
TZNAME:CDT
DTSTART:20270314T080000
END:DAYLIGHT
BEGIN:STANDARD
TZOFFSETFROM:-0500
TZOFFSETTO:-0600
TZNAME:CST
DTSTART:20271107T070000
END:STANDARD
END:VTIMEZONE
BEGIN:VEVENT
DTSTART;TZID=America/Chicago:20260129T190000
DTEND;TZID=America/Chicago:20260129T203000
DTSTAMP:20260423T183256
CREATED:20260129T150412Z
LAST-MODIFIED:20260129T150752Z
UID:5402-1769713200-1769718600@taylorcounty.gop
SUMMARY:Chance Ferguson - Meet & Greet at the Clyde Senior & Event Center
DESCRIPTION:Let’s talk\, Clyde! Come by the Clyde Senior & Event Center on January 29th at 7PM and we can meet\, discuss the issues\, and talk about why I am your best choice for HD71!
URL:https://taylorcounty.gop/event/chance-ferguson-meet-greet-at-the-clyde-senior-event-center/
LOCATION:Clyde Senior and Event Center\, 106 Cedar St\, Clyde\, TX\, United States
CATEGORIES:Chance Ferguson for Texas HD71 Campaign
END:VEVENT
END:VCALENDAR